BEGIN:VCALENDAR
VERSION:2.0
PRODID:-//Chorgemeinschaft Armin Kronau - ECPv6.15.20//NONSGML v1.0//EN
CALSCALE:GREGORIAN
METHOD:PUBLISH
X-ORIGINAL-URL:https://armin-kronau.de
X-WR-CALDESC:Veranstaltungen für Chorgemeinschaft Armin Kronau
REFRESH-INTERVAL;VALUE=DURATION:PT1H
X-Robots-Tag:noindex
X-PUBLISHED-TTL:PT1H
BEGIN:VTIMEZONE
TZID:Europe/Helsinki
BEGIN:DAYLIGHT
TZOFFSETFROM:+0200
TZOFFSETTO:+0300
TZNAME:EEST
DTSTART:20250330T010000
END:DAYLIGHT
BEGIN:STANDARD
TZOFFSETFROM:+0300
TZOFFSETTO:+0200
TZNAME:EET
DTSTART:20251026T010000
END:STANDARD
BEGIN:DAYLIGHT
TZOFFSETFROM:+0200
TZOFFSETTO:+0300
TZNAME:EEST
DTSTART:20260329T010000
END:DAYLIGHT
BEGIN:STANDARD
TZOFFSETFROM:+0300
TZOFFSETTO:+0200
TZNAME:EET
DTSTART:20261025T010000
END:STANDARD
BEGIN:DAYLIGHT
TZOFFSETFROM:+0200
TZOFFSETTO:+0300
TZNAME:EEST
DTSTART:20270328T010000
END:DAYLIGHT
BEGIN:STANDARD
TZOFFSETFROM:+0300
TZOFFSETTO:+0200
TZNAME:EET
DTSTART:20271031T010000
END:STANDARD
END:VTIMEZONE
BEGIN:VEVENT
DTSTART;VALUE=DATE:20260516
DTEND;VALUE=DATE:20260518
DTSTAMP:20260424T152935
CREATED:20260423T155508Z
LAST-MODIFIED:20260423T155508Z
UID:650-1778889600-1779062399@armin-kronau.de
SUMMARY:Dorffest
DESCRIPTION:
URL:https://armin-kronau.de/?tribe_events=dorffest-2
END:VEVENT
BEGIN:VEVENT
DTSTART;TZID=Europe/Helsinki:20260613T080000
DTEND;TZID=Europe/Helsinki:20260613T210000
DTSTAMP:20260424T152935
CREATED:20260423T163233Z
LAST-MODIFIED:20260423T163233Z
UID:672-1781337600-1781384400@armin-kronau.de
SUMMARY:Ausflug Würzburg
DESCRIPTION:
URL:https://armin-kronau.de/?tribe_events=ausflug-wuerzburg
END:VEVENT
BEGIN:VEVENT
DTSTART;VALUE=DATE:20260926
DTEND;VALUE=DATE:20260927
DTSTAMP:20260424T152935
CREATED:20260423T163357Z
LAST-MODIFIED:20260423T163357Z
UID:674-1790380800-1790467199@armin-kronau.de
SUMMARY:Probetag Konzert
DESCRIPTION:
URL:https://armin-kronau.de/?tribe_events=probetag-konzert
END:VEVENT
BEGIN:VEVENT
DTSTART;VALUE=DATE:20261010
DTEND;VALUE=DATE:20261011
DTSTAMP:20260424T152935
CREATED:20260423T163519Z
LAST-MODIFIED:20260423T163519Z
UID:676-1791590400-1791676799@armin-kronau.de
SUMMARY:Auftritt Frankenthal
DESCRIPTION:
URL:https://armin-kronau.de/?tribe_events=auftritt-frankenthal
END:VEVENT
BEGIN:VEVENT
DTSTART;VALUE=DATE:20261011
DTEND;VALUE=DATE:20261012
DTSTAMP:20260424T152935
CREATED:20260423T163602Z
LAST-MODIFIED:20260423T163602Z
UID:678-1791676800-1791763199@armin-kronau.de
SUMMARY:Konzert Kronau
DESCRIPTION:
URL:https://armin-kronau.de/?tribe_events=konzert-kronau
END:VEVENT
BEGIN:VEVENT
DTSTART;VALUE=DATE:20261115
DTEND;VALUE=DATE:20261116
DTSTAMP:20260424T152935
CREATED:20260423T163647Z
LAST-MODIFIED:20260423T163647Z
UID:680-1794700800-1794787199@armin-kronau.de
SUMMARY:Singen Volkstrauertag
DESCRIPTION:
URL:https://armin-kronau.de/?tribe_events=singen-volkstrauertag
END:VEVENT
BEGIN:VEVENT
DTSTART;VALUE=DATE:20261128
DTEND;VALUE=DATE:20261130
DTSTAMP:20260424T152935
CREATED:20260423T163755Z
LAST-MODIFIED:20260423T163755Z
UID:682-1795824000-1795996799@armin-kronau.de
SUMMARY:Weihnachtsmarkt
DESCRIPTION:
URL:https://armin-kronau.de/?tribe_events=weihnachtsmarkt
END:VEVENT
BEGIN:VEVENT
DTSTART;VALUE=DATE:20261216
DTEND;VALUE=DATE:20261217
DTSTAMP:20260424T152935
CREATED:20260423T163836Z
LAST-MODIFIED:20260423T163836Z
UID:684-1797379200-1797465599@armin-kronau.de
SUMMARY:Weihnachtsliedersingen
DESCRIPTION:
URL:https://armin-kronau.de/?tribe_events=weihnachtsliedersingen
END:VEVENT
END:VCALENDAR